BEGIN:VCALENDAR
VERSION:2.0
PRODID:-//Drupal iCal API//EN
X-WR-TIMEZONE:America/Los_Angeles
BEGIN:VTIMEZONE
TZID:America/Los_Angeles
X-LIC-LOCATION:America/Los_Angeles
BEGIN:DAYLIGHT
TZNAME:PDT
TZOFFSETFROM:-0800
TZOFFSETTO:-0700
DTSTART:20260308T100000
END:DAYLIGHT
BEGIN:STANDARD
TZNAME:PST
TZOFFSETFROM:-0700
TZOFFSETTO:-0800
DTSTART:20251102T090000
END:STANDARD
END:VTIMEZONE
BEGIN:VEVENT
UID:1e7f28a2-ceb5-4452-a849-f398fbcd67bd
DTSTART;TZID=America/Los_Angeles:20260422T173000
SEQUENCE:0
TRANSP:TRANSPARENT
DTEND;TZID=America/Los_Angeles:20260422T193000
SUMMARY:Public Hearing - Ordinance No 609 - Annexing Approximately 24 Acres
  of\nContiguous Territory within the City's Urban Growth Boundary
CLASS:PUBLIC
DESCRIPTION:Description \n\nJoin Zoom Meeting\n\nhttps://us02web.zoom.us/j/
 83790347681?pwd=voJaDLcN3hf2xSw9bkgMJa1vY9P9ZV.1\n[https://us02web.zoom.us
 /j/83790347681?pwd=voJaDLcN3hf2xSw9bkgMJa1vY9P9ZV.1]\n\n \n\nMeeting ID: 
 837 9034 7681\n\nPasscode: 208278\n\n \n\n \n\n \n 
DTSTAMP:20260421T050815Z
END:VEVENT
END:VCALENDAR