BEGIN:VCALENDAR
VERSION:2.0
PRODID:-//Drupal iCal API//EN
X-WR-TIMEZONE:America/Los_Angeles
BEGIN:VTIMEZONE
TZID:America/Los_Angeles
X-LIC-LOCATION:America/Los_Angeles
BEGIN:DAYLIGHT
TZNAME:PDT
TZOFFSETFROM:-0800
TZOFFSETTO:-0700
DTSTART:20250309T100000
END:DAYLIGHT
BEGIN:STANDARD
TZNAME:PST
TZOFFSETFROM:-0700
TZOFFSETTO:-0800
DTSTART:20241103T090000
END:STANDARD
END:VTIMEZONE
BEGIN:VEVENT
UID:2a4470fd-0dfd-43e2-84af-313ae8c52fc3
DTSTART;TZID=America/Los_Angeles:20250603T190000
SEQUENCE:0
TRANSP:TRANSPARENT
DTEND;TZID=America/Los_Angeles:20250603T210000
SUMMARY:June 3rd\, 2025 Planning Commission Meeting
CLASS:PUBLIC
DESCRIPTION:Description \n\nTopic: June 2025 Planning Commission Meeting\nT
 ime: Jun 3\, 2025 07:00 PM Pacific Time (US and Canada)\nJoin Zoom Meeting
 \nhttps://us02web.zoom.us/j/87822398365?pwd=HLWQknZJWqP8i4afC7DfoOu0np9qn
 …\n[https://us02web.zoom.us/j/87822398365?pwd=HLWQknZJWqP8i4afC7DfoOu0np
 9qnD.1]\n\nMeeting ID: 878 2239 8365\nPasscode: 307694\n\n \n\n***For rec
 orded minutes\, please request through the City Hall. ***\n 
DTSTAMP:20260417T233119Z
END:VEVENT
END:VCALENDAR