BEGIN:VCALENDAR
VERSION:2.0
PRODID:-//Drupal iCal API//EN
X-WR-TIMEZONE:America/Los_Angeles
BEGIN:VTIMEZONE
TZID:America/Los_Angeles
X-LIC-LOCATION:America/Los_Angeles
BEGIN:DAYLIGHT
TZNAME:PDT
TZOFFSETFROM:-0800
TZOFFSETTO:-0700
DTSTART:20250309T100000
END:DAYLIGHT
BEGIN:STANDARD
TZNAME:PST
TZOFFSETFROM:-0700
TZOFFSETTO:-0800
DTSTART:20241103T090000
END:STANDARD
END:VTIMEZONE
BEGIN:VEVENT
UID:c5b7c259-5104-423d-aa6b-0b34a1732556
DTSTART;TZID=America/Los_Angeles:20250423T183000
SEQUENCE:0
TRANSP:TRANSPARENT
DTEND;TZID=America/Los_Angeles:20250423T193000
SUMMARY:Airport Committee Meeting
CLASS:PUBLIC
DESCRIPTION:Description \n\nAt the Enterprise Airport.\n 
DTSTAMP:20260420T031140Z
END:VEVENT
END:VCALENDAR